BEGIN:VCALENDAR
VERSION:2.0
PRODID:-//Hamburger Hospiz - ECPv6.15.20//NONSGML v1.0//EN
CALSCALE:GREGORIAN
METHOD:PUBLISH
X-WR-CALNAME:Hamburger Hospiz
X-ORIGINAL-URL:https://www.hamburger-hospiz.de
X-WR-CALDESC:Veranstaltungen fÃ¼r Hamburger Hospiz
REFRESH-INTERVAL;VALUE=DURATION:PT1H
X-Robots-Tag:noindex
X-PUBLISHED-TTL:PT1H
BEGIN:VTIMEZONE
TZID:Europe/Berlin
BEGIN:DAYLIGHT
TZOFFSETFROM:+0100
TZOFFSETTO:+0200
TZNAME:CEST
DTSTART:20240331T010000
END:DAYLIGHT
BEGIN:STANDARD
TZOFFSETFROM:+0200
TZOFFSETTO:+0100
TZNAME:CET
DTSTART:20241027T010000
END:STANDARD
BEGIN:DAYLIGHT
TZOFFSETFROM:+0100
TZOFFSETTO:+0200
TZNAME:CEST
DTSTART:20250330T010000
END:DAYLIGHT
BEGIN:STANDARD
TZOFFSETFROM:+0200
TZOFFSETTO:+0100
TZNAME:CET
DTSTART:20251026T010000
END:STANDARD
BEGIN:DAYLIGHT
TZOFFSETFROM:+0100
TZOFFSETTO:+0200
TZNAME:CEST
DTSTART:20260329T010000
END:DAYLIGHT
BEGIN:STANDARD
TZOFFSETFROM:+0200
TZOFFSETTO:+0100
TZNAME:CET
DTSTART:20261025T010000
END:STANDARD
END:VTIMEZONE
BEGIN:VEVENT
DTSTART;TZID=Europe/Berlin:20250219T180000
DTEND;TZID=Europe/Berlin:20250219T200000
DTSTAMP:20260419T184234
CREATED:20241219T130408Z
LAST-MODIFIED:20241219T130408Z
UID:1423-1739988000-1739995200@www.hamburger-hospiz.de
SUMMARY:Hospiz im Helenenstift: Wenn Tote nicht tot sein dÃ¼rfen
DESCRIPTION:Wenn Tote nicht tot sein dÃ¼rfen &#8211; PlÃ¤doyer fÃ¼r eine wahrhaftige Sprache\nMit der Sprache fÃ¤ngt es an. Wie sprechen wir Ã¼ber den Tod? Unsicherheit und die Angst\, ein diffuses PietÃ¤tsempfinden zu verletzen\, verleiten oft zu Floskeln und Umschreibungen. Aber Menschen entschlafen nicht. Sie sterben. Wenn wir Tod und Sterben tabuisieren und aus der Sprache verbannen\, lassen wir auch der Trauer keinen Raum. Die Trauernden bleiben allein. Der Schmerz kehrt sich nach Innen. Was ohnehin schon hart und schwer ist\, wird noch hÃ¤rter und schwerer. Es gilt\, die Dinge beim Namen zu nennen\, die eigene Scheu zu Ã¼berwinden und eine unbefangene Sprache zu wagen. Eine Sprache\, in der bei allem Schmerz eine trÃ¶stliche Leichtigkeit mitschwingt. Und immer wieder auch ein LÃ¤cheln. \nÃœber die Tabuisierung des Todes und ihre Folgen spricht die Trauerrednerin Stefanie Viereck\, Ã¼ber den achtsamen Sprachgebrauch im tÃ¤glichen Umgang mit An- und ZugehÃ¶rigen die Bestatterin Bettina Strang. Im Anschluss freuen sich beide auf das GesprÃ¤ch mit Ihnen. \n \nStefanie Viereck hat sich seit Jahrzehnten mit Sprache befasst. Sie hat zunÃ¤chst als Wirtschaftsjournalistin gearbeitet\, sich spÃ¤ter der Belletristik zugewandt\, lektoriert\, Ã¼bersetzt und schlieÃŸlich eigene Geschichten erzÃ¤hlt. Vor ein paar Jahren\, als mehrere ihr nahe Menschen starben\, ist ihr bewusst geworden\, wie sehr gemeinsames Erinnern hilft\, die Trauer zu besÃ¤nftigen. Das Sprechen Ã¼ber die Toten. Das ErzÃ¤hlen ihrer Geschichte. Bei Annette Rosenfeld hat sie eine einjÃ¤hrige Ausbildung fÃ¼r Trauerredner*innen absolviert und seither den Erinnerungen vieler Trauernden beim Abschied Wort und Stimme gegeben. \nBettina Strang\, 1971 in Bonn geboren\, lebt seit 2010 in Hamburg. Sie ist Bestatterin im Trostwerk in EimsbÃ¼ttel\, schreibt freiberuflich Texte und Reden und ist regelmÃ¤ÃŸig Gast auf unterschiedlichen Lese- und TheaterbÃ¼hnen. Schon als Kind liebte sie SpaziergÃ¤nge auf FriedhÃ¶fen. Gedanken Ã¼ber das Sterben\, den Tod und die Lebendigkeit begleiten sie\, seit sie denken kann. Aus persÃ¶nlichen und beruflichen Erfahrungen weiÃŸ sie\, wie gut das klar Ausgesprochene tut\, wÃ¤hrend uns vage Andeutungen meist hilflos machen und allein lassen. Ganz besonders beim Abschied nehmen. \nTermin: Â Â Â Â Â Â Â Â Â Â Â Â Â Â Â Â Â Â Â Â Â Â Â Â Â Â Â Â Â Â  19. Februar 2025\, 18 bis 20 Uhr \nOrt:Â Â Â Â Â Â Â Â Â Â Â Â Â Â Â Â Â Â Â Â Â Â Â Â Â Â Â Â Â Â Â Â Â Â Â Â Â Â  Hamburger Hospiz im Helenenstift\, HelenenstraÃŸe 12\, Altona \nEintritt:Â Â Â Â Â Â Â Â Â Â Â Â Â Â Â Â Â Â Â Â Â Â Â Â Â Â Â Â Â Â Â  Kostenfrei\, wir freuen uns Ã¼ber Ihre Spende \nAnmeldung:Â Â Â Â Â Â Â Â Â Â Â Â Â Â Â Â Â Â Â Â Â  veranstaltungen@hamburger-hospiz.de und Tel. 040- 389075-205 \n 
URL:https://www.hamburger-hospiz.de/veranstaltungen/hospiz-im-helenenstift-wenn-tote-nicht-tot-sein-duerfen/
LOCATION:Hamburger Hospiz im Helenenstift\, HelenenstraÃŸe 12\, Hamburg\, 22765\, Deutschland
CATEGORIES:Vortrag
ATTACH;FMTTYPE=image/jpeg:https://www.hamburger-hospiz.de/wp-content/uploads/2024/12/Header-Tod-in-der-Sprache.jpg
ORGANIZER;CN="Hamburger Hospiz im Helenenstift":MAILTO:veranstaltungen@hamburger-hospiz.de
END:VEVENT
BEGIN:VEVENT
DTSTART;TZID=Europe/Berlin:20250224T180000
DTEND;TZID=Europe/Berlin:20250224T193000
DTSTAMP:20260419T184234
CREATED:20241209T150524Z
LAST-MODIFIED:20241209T150524Z
UID:1414-1740420000-1740425400@www.hamburger-hospiz.de
SUMMARY:Hospiz im Helenenstift: Moderierte Trauerselbsthilfegruppe (Infoabend)
DESCRIPTION:Im FrÃ¼hjahr 2025 beginnt im Hamburger Hospiz im Helenenstift wieder eine moderierte GesprÃ¤chsgruppe fÃ¼r Hinterbliebene. In unseren Trauergruppen finden Sie einen geschÃ¼tzten Ort. Hier haben Sie Zeit\, Ihre Trauer auszudrÃ¼cken. Wir arbeiten mit haltgebenden Ritualen\, DenkanstÃ¶ÃŸen und dem Austausch in der Gruppe. \nModeratorin der FrÃ¼hjahrs-Trauergruppe ist Martina Petersen. Sie ist Trauerbegleiterin und Journalistin. Sie und die Gruppenteilnehmer*innen stehen Ihnen behutsam zur Seite. Schnell entsteht ein wohltuendes VertrauensverhÃ¤ltnis\, das entlastet und trÃ¤gt. Die Teilnehmer*innen unterstÃ¼tzen einander einfÃ¼hlsam und manchmal entstehen sogar neue Freundschaften. \nVoraussetzungen fÃ¼r die Teilnahme an einer Trauergruppe sind zunÃ¤chst ein (telefonisches) BeratungsgesprÃ¤ch und anschlieÃŸend die Teilnahme an der Infoveranstaltung zum gegenseitigen Kennenlernen. Wir bitten um Anmeldung. \nBei dem Informationsabend am 24. Februar 2025 haben Interessierte die MÃ¶glichkeit\, uns und unsere Arbeitsweise kennenzulernen und herauszufinden\, ob unser Angebot sich mit eigenen BedÃ¼rfnissen und Vorstellungen deckt. \nUnsere Gruppen richten sich an Hinterbliebene nach dem Verlust eines Partners/einer Partnerin\, eines Familienmitgliedes\, eines erwachsenen Kindes oder eines Freundes/einer Freundin. Der Zeitpunkt des Trauerfalls spielt keine Rolle fÃ¼r die Aufnahme in die Gruppe. ZwÃ¶lf Treffen liegen im Zeitraum MÃ¤rz bis Juni 2025. Sie finden in der Regel wÃ¶chentlich am Montag von 18:00 bis 20:00 Uhr statt. Nach ca. 12 Gruppentreffen entscheiden die 8 bis 10 Teilnehmer*innen\, ob sie sich weiterhin und eigenstÃ¤ndig als Selbsthilfegruppe ohne Moderation treffen mÃ¶chten. \nDie Teilnahme an unseren moderierten Trauerselbsthilfegruppen ist kostenlos; unsere Trauerarbeit wird ausschlieÃŸlich Ã¼ber Spenden finanziert. \nTermin: Montag\, 24. Februar 2024\, von 18:00 bis 19:30 Uhr\nOrt: Hamburger Hospiz im Helenenstift\, HelenenstraÃŸe 12\nBitte melden Sie sich an unter trauer@hamburger-hospiz.de oder Tel. 040 389075-205. \nSpenden heiÃŸt mitwirken\nHamburger Hospiz im Helenenstift\nIBAN: DE 48 4306 0967 1290 3151 00\nStichwort: &#8222;Trauerarbeit&#8220;
URL:https://www.hamburger-hospiz.de/veranstaltungen/hospiz-im-helenenstift-moderierte-trauerselbsthilfegruppe-infoabend-2/
LOCATION:Hamburger Hospiz im Helenenstift\, HelenenstraÃŸe 12\, Hamburg\, 22765\, Deutschland
CATEGORIES:Trauerarbeit,Trauergruppe
ATTACH;FMTTYPE=image/jpeg:https://www.hamburger-hospiz.de/wp-content/uploads/2022/09/24-10-Trauergruppe-scaled.jpg
ORGANIZER;CN="Hamburger Hospiz im Helenenstift - Trauerarbeit":MAILTO:trauer@hamburger-hospiz.de
END:VEVENT
END:VCALENDAR